BEGIN:VCALENDAR
VERSION:2.0
PRODID:-//КДАіС
CALSCALE:GREGORIAN
METHOD:PUBLISH
X-WR-CALNAME:КДАіС
X-ORIGINAL-URL:https://kdais.kiev.ua/event/propovid-15-02-2025-ua/
X-WR-CALDESC:Проповідь архієпископа Білогородського Сильвестра у свято Стрітення Господнього
BEGIN:VEVENT
DTSTART:20250215T233000
DTEND:20250215T233000
SUMMARY:Проповідь архієпископа Білогородського Сильвестра у свято Стрітення Господнього
DESCRIPTION:Стрітення Господнє — це свято, яке має стосунок до двох Завітів: Старого і Нового. Тому що Стрітення — це якраз і є зустріч цих Завітів, Старого, що минає, і Завіту Нового, що приходить
LOCATION:
END:VEVENT
END:VCALENDAR
