BEGIN:VCALENDAR
VERSION:2.0
PRODID:-//КДАіС
CALSCALE:GREGORIAN
METHOD:PUBLISH
X-WR-CALNAME:КДАіС
X-ORIGINAL-URL:https://kdais.kiev.ua/event/02-03-2025-chin_proschennya/
X-WR-CALDESC:Ректор, професорсько-викладацька корпорація та студенти КДАіС взяли участь у Чині прощення
BEGIN:VEVENT
DTSTART:20250302T233000
DTEND:20250302T233000
SUMMARY:Ректор, професорсько-викладацька корпорація та студенти КДАіС взяли участь у Чині прощення
DESCRIPTION:Велику вечірню з Чином прощення очолив Предстоятель Української Православної Церкви Блаженніший Митрополит Київський і всієї України Онуфрій
LOCATION:
END:VEVENT
END:VCALENDAR
