BEGIN:VCALENDAR
VERSION:2.0
PRODID:-//КДАіС
CALSCALE:GREGORIAN
METHOD:PUBLISH
X-WR-CALNAME:КДАіС
X-ORIGINAL-URL:https://kdais.kiev.ua/event/slovo-ru-23-02-2026/
X-WR-CALDESC:Слово архиепископа Белогородского Сильвестра после чтения первой части канона прп. Андрея Критского
BEGIN:VEVENT
DTSTART:20260223T233000
DTEND:20260223T233000
SUMMARY:Слово архиепископа Белогородского Сильвестра после чтения первой части канона прп. Андрея Критского
DESCRIPTION:Кто победил тщеславие тот победил и гордыню, потому что не дал разрастись ему
LOCATION:
END:VEVENT
END:VCALENDAR
