BEGIN:VCALENDAR
VERSION:2.0
PRODID:-//КДАіС
CALSCALE:GREGORIAN
METHOD:PUBLISH
X-WR-CALNAME:КДАіС
X-ORIGINAL-URL:https://kdais.kiev.ua/event/kanon2-rector-04-03-2025/
X-WR-CALDESC:Ректор КДА звершив читання другої частини канону прп. Андрія Критського у храмовому комплексі Різдва Христового на Березняках
BEGIN:VEVENT
DTSTART:20250304T233000
DTEND:20250304T233000
SUMMARY:Ректор КДА звершив читання другої частини канону прп. Андрія Критського у храмовому комплексі Різдва Христового на Березняках
DESCRIPTION:Після читання канону владика ректор звернувся до присутніх зі словами архіпастирських настанов
LOCATION:
END:VEVENT
END:VCALENDAR
