BEGIN:VCALENDAR
VERSION:2.0
PRODID:-//КДАіС
CALSCALE:GREGORIAN
METHOD:PUBLISH
X-WR-CALNAME:КДАіС
X-ORIGINAL-URL:https://kdais.kiev.ua/event/05-03-2025-lpd/
X-WR-CALDESC:У КДАіС відслужена перша в цьому році Літургія Передосвячених Дарів
BEGIN:VEVENT
DTSTART:20250305T233000
DTEND:20250305T233000
SUMMARY:У КДАіС відслужена перша в цьому році Літургія Передосвячених Дарів
DESCRIPTION:Богослужіння звершили проректор з виховної роботи архієпископ Згурівський Амвросій та проректор з навчально-методичної роботи єпископ Батуринський Пантелеімон
LOCATION:
END:VEVENT
END:VCALENDAR
