BEGIN:VCALENDAR
VERSION:2.0
PRODID:-//КДАіС
CALSCALE:GREGORIAN
METHOD:PUBLISH
X-WR-CALNAME:КДАіС
X-ORIGINAL-URL:https://kdais.kiev.ua/event/litiya-10-03-2025/
X-WR-CALDESC:В КДАіС відслужена заупокійна літія за видатним українським поетом і письменником Т. Г. Шевченком
BEGIN:VEVENT
DTSTART:20250310T233000
DTEND:20250310T233000
SUMMARY:В КДАіС відслужена заупокійна літія за видатним українським поетом і письменником Т. Г. Шевченком
DESCRIPTION:Богослужіння звершив вчений секретар архімандрит Митрофан (Божко)
LOCATION:
END:VEVENT
END:VCALENDAR
