BEGIN:VCALENDAR
VERSION:2.0
PRODID:-//КДАіС
CALSCALE:GREGORIAN
METHOD:PUBLISH
X-WR-CALNAME:КДАіС
X-ORIGINAL-URL:https://kdais.kiev.ua/event/10-03-2025-grafic/
X-WR-CALDESC:Графік бакалаврського іспиту для студентів 4-го класу заочного сектору Київської духовної семінарії
BEGIN:VEVENT
DTSTART:20250310T233000
DTEND:20250310T233000
SUMMARY:Графік бакалаврського іспиту для студентів 4-го класу заочного сектору Київської духовної семінарії
DESCRIPTION:Іспит проходитиме в аудиторіях семінарії
LOCATION:
END:VEVENT
END:VCALENDAR
