BEGIN:VCALENDAR
VERSION:2.0
PRODID:-//КДАіС
CALSCALE:GREGORIAN
METHOD:PUBLISH
X-WR-CALNAME:КДАіС
X-ORIGINAL-URL:https://kdais.kiev.ua/event/konferenc-15-03-2025/
X-WR-CALDESC:Програма ХIV щорічної студентської конференції «Студентська наука в духовній школі»
BEGIN:VEVENT
DTSTART:20250315T233000
DTEND:20250315T233000
SUMMARY:Програма ХIV щорічної студентської конференції «Студентська наука в духовній школі»
DESCRIPTION:Під час щорічної конференції студенти, аспіранти, а також гості, які беруть участь матимуть змогу презентувати та випробувати результати своїх досліджень. За напрямками наукових інтересів будуть працювати 6 секцій.
LOCATION:
END:VEVENT
END:VCALENDAR
