BEGIN:VCALENDAR
VERSION:2.0
PRODID:-//КДАіС
CALSCALE:GREGORIAN
METHOD:PUBLISH
X-WR-CALNAME:КДАіС
X-ORIGINAL-URL:https://kdais.kiev.ua/event/liturhiya-16-03-2025/
X-WR-CALDESC:Божественна літургія у Неділю другу Великого посту, Собор всіх преподобних отців Києво-Печерських та святителя Григорія Палами
BEGIN:VEVENT
DTSTART:20250316T233000
DTEND:20250316T233000
SUMMARY:Божественна літургія у Неділю другу Великого посту, Собор всіх преподобних отців Києво-Печерських та святителя Григорія Палами
DESCRIPTION:Проповідь після читання Святого Євангелія виголосив — викладач Герман (Ковач)
LOCATION:
END:VEVENT
END:VCALENDAR
