BEGIN:VCALENDAR
VERSION:2.0
PRODID:-//КДАіС
CALSCALE:GREGORIAN
METHOD:PUBLISH
X-WR-CALNAME:КДАіС
X-ORIGINAL-URL:https://kdais.kiev.ua/event/19-03-2025-akafist/
X-WR-CALDESC:В Київських духовних школах звершено традиційне читання Акафіста Собору святих КДА
BEGIN:VEVENT
DTSTART:20250319T233000
DTEND:20250319T233000
SUMMARY:В Київських духовних школах звершено традиційне читання Акафіста Собору святих КДА
DESCRIPTION:Акафістний спів звершив завідувач заочного сектору Київських духовних шкіл архімандрит Афанасій (Стрельцов)
LOCATION:
END:VEVENT
END:VCALENDAR
