BEGIN:VCALENDAR
VERSION:2.0
PRODID:-//КДАіС
CALSCALE:GREGORIAN
METHOD:PUBLISH
X-WR-CALNAME:КДАіС
X-ORIGINAL-URL:https://kdais.kiev.ua/event/lpd-21-03-2025/
X-WR-CALDESC:У п’ятницю третьої седмиці Великого посту в КДАіС звершено Літургію Передосвячених Дарів
BEGIN:VEVENT
DTSTART:20250321T233000
DTEND:20250321T233000
SUMMARY:У п’ятницю третьої седмиці Великого посту в КДАіС звершено Літургію Передосвячених Дарів
DESCRIPTION:Богослужіння звершив благочинний Академічного храму архімандрит Досифей (Михайлюк)
LOCATION:
END:VEVENT
END:VCALENDAR
