BEGIN:VCALENDAR
VERSION:2.0
PRODID:-//КДАіС
CALSCALE:GREGORIAN
METHOD:PUBLISH
X-WR-CALNAME:КДАіС
X-ORIGINAL-URL:https://kdais.kiev.ua/event/22-03-2025-liturhiya/
X-WR-CALDESC:Божественна літургія у день пам&#8217;яті 40-а мучеників Севастійських
BEGIN:VEVENT
DTSTART:20250322T233000
DTEND:20250322T233000
SUMMARY:Божественна літургія у день пам&#8217;яті 40-а мучеників Севастійських
DESCRIPTION:Наприкінці Літургії було звершено чин славління з молитвою до мучеників Севастійських
LOCATION:
END:VEVENT
END:VCALENDAR
