BEGIN:VCALENDAR
VERSION:2.0
PRODID:-//КДАіС
CALSCALE:GREGORIAN
METHOD:PUBLISH
X-WR-CALNAME:КДАіС
X-ORIGINAL-URL:https://kdais.kiev.ua/event/liturhiya-30-03-2025/
X-WR-CALDESC:Божественна літургія у Неділю четверту Великого посту, день пам&#8217;яті преподобного Іоанна Ліствичника
BEGIN:VEVENT
DTSTART:20250330T233000
DTEND:20250330T233000
SUMMARY:Божественна літургія у Неділю четверту Великого посту, день пам&#8217;яті преподобного Іоанна Ліствичника
DESCRIPTION:Проповіді за богослужінням виголосили: після читання Святого Євангелія — вчений секретар доцент архімандрит Митрофан (Божко), а на запричасному вірші — студент I курсу Академії чтець Кирило Нєєлов
LOCATION:
END:VEVENT
END:VCALENDAR
