BEGIN:VCALENDAR
VERSION:2.0
PRODID:-//КДАіС
CALSCALE:GREGORIAN
METHOD:PUBLISH
X-WR-CALNAME:КДАіС
X-ORIGINAL-URL:https://kdais.kiev.ua/event/vitannya-13-04-2025/
X-WR-CALDESC:Вітаємо проректора з виховної роботи професора архієпископа Згурівського Амвросія із 6-ою річницею архієрейської хіротонії!
BEGIN:VEVENT
DTSTART:20250413T233000
DTEND:20250413T233000
SUMMARY:Вітаємо проректора з виховної роботи професора архієпископа Згурівського Амвросія із 6-ою річницею архієрейської хіротонії!
DESCRIPTION:Київські духовні школи сердечно вітають Вас із 6-ою річницею архієрейської хіротонії!
LOCATION:
END:VEVENT
END:VCALENDAR
