BEGIN:VCALENDAR
VERSION:2.0
PRODID:-//КДАіС
CALSCALE:GREGORIAN
METHOD:PUBLISH
X-WR-CALNAME:КДАіС
X-ORIGINAL-URL:https://kdais.kiev.ua/event/slovo-ua-05-04-26/
X-WR-CALDESC:Повчання архієпископа Білогородського Сильвестра у Великий Понеділок
BEGIN:VEVENT
DTSTART:20260405T233000
DTEND:20260405T233000
SUMMARY:Повчання архієпископа Білогородського Сильвестра у Великий Понеділок
DESCRIPTION:Після Входу в Ієрусалим, Господь Іісус не залишається у Великому Місті, але йде ночувати до Віфанії, передмістя Ієрусалима, до рідного селища Марфи, Марії та брата їхнього Лазаря
LOCATION:
END:VEVENT
END:VCALENDAR
