BEGIN:VCALENDAR
VERSION:2.0
PRODID:-//КДАіС
CALSCALE:GREGORIAN
METHOD:PUBLISH
X-WR-CALNAME:КДАіС
X-ORIGINAL-URL:https://kdais.kiev.ua/event/bogosluzhinnya-13-04-2025/
X-WR-CALDESC:Вечірнє богослужіння в Академії напередодні Великого Понеділка
BEGIN:VEVENT
DTSTART:20250413T233000
DTEND:20250413T233000
SUMMARY:Вечірнє богослужіння в Академії напередодні Великого Понеділка
DESCRIPTION:Богослужіння звершив викладач архімандрит Маркел (Павук) 
LOCATION:
END:VEVENT
END:VCALENDAR
