BEGIN:VCALENDAR
VERSION:2.0
PRODID:-//КДАіС
CALSCALE:GREGORIAN
METHOD:PUBLISH
X-WR-CALNAME:КДАіС
X-ORIGINAL-URL:https://kdais.kiev.ua/event/vechirnya-16-04-2025/
X-WR-CALDESC:Уставне богослужіння напередодні Великого Четверга, Спомину Тайної Вечері
BEGIN:VEVENT
DTSTART:20250416T233000
DTEND:20250416T233000
SUMMARY:Уставне богослужіння напередодні Великого Четверга, Спомину Тайної Вечері
DESCRIPTION:Богослужіння звершив благочинний Академічного храму архімандрит Досифей (Михайлюк)
LOCATION:
END:VEVENT
END:VCALENDAR
