BEGIN:VCALENDAR
VERSION:2.0
PRODID:-//КДАіС
CALSCALE:GREGORIAN
METHOD:PUBLISH
X-WR-CALNAME:КДАіС
X-ORIGINAL-URL:https://kdais.kiev.ua/event/%d0%92-%d0%9a%d0%b8%d1%97%d0%b2%d1%81%d1%8c%d0%ba%d0%b8%d1%85-%d0%b4%d1%83%d1%85%d0%be%d0%b2%d0%bd%d0%b8%d1%85-%d1%88%d0%ba%d0%be%d0%bb%d0%b0%d1%85-%d0%b2%d1%96%d0%b4%d1%81%d0%bb%d1%83%d0%b6%d0%b5/
X-WR-CALDESC:В Київських духовних школах відслужена остання у цьому році Літургія Передосвячених Дарів
BEGIN:VEVENT
DTSTART:20180404T203000
DTEND:20180404T203000
SUMMARY:В Київських духовних школах відслужена остання у цьому році Літургія Передосвячених Дарів
DESCRIPTION:Ректор Академії єпископ Білогородський Сильвестр у співслужінні академічного духовенства звершив Літургію Передосвячених Дарів в Академічному храмі на честь Різдва Божої Матері.
LOCATION:
END:VEVENT
END:VCALENDAR
