BEGIN:VCALENDAR
VERSION:2.0
PRODID:-//КДАіС
CALSCALE:GREGORIAN
METHOD:PUBLISH
X-WR-CALNAME:КДАіС
X-ORIGINAL-URL:https://kdais.kiev.ua/event/pogrebinnya-18-04-2025/
X-WR-CALDESC:Утреня з чином погребіння Плащаниці
BEGIN:VEVENT
DTSTART:20250418T233000
DTEND:20250418T233000
SUMMARY:Утреня з чином погребіння Плащаниці
DESCRIPTION:Богослужбові тексти утрені Великої Суботи присвячені погребінню Господа Йосифом Аримафейським та Никодимом
LOCATION:
END:VEVENT
END:VCALENDAR
