BEGIN:VCALENDAR
VERSION:2.0
PRODID:-//КДАіС
CALSCALE:GREGORIAN
METHOD:PUBLISH
X-WR-CALNAME:КДАіС
X-ORIGINAL-URL:https://kdais.kiev.ua/event/vitannya-20-04-2025/
X-WR-CALDESC:Вітання Блаженнішого Митрополита Київського і всієї України Онуфрія з Пасхою Христовою
BEGIN:VEVENT
DTSTART:20250420T233000
DTEND:20250420T233000
SUMMARY:Вітання Блаженнішого Митрополита Київського і всієї України Онуфрія з Пасхою Христовою
DESCRIPTION:Сердечно поздоровляю всіх Вас з найвеличнішим нашим християнським Празником Преславного Воскресіння Господа Бога і Спасителя нашого Іісуса Христа!
LOCATION:
END:VEVENT
END:VCALENDAR
