BEGIN:VCALENDAR
VERSION:2.0
PRODID:-//КДАіС
CALSCALE:GREGORIAN
METHOD:PUBLISH
X-WR-CALNAME:КДАіС
X-ORIGINAL-URL:https://kdais.kiev.ua/event/%d0%91%d0%be%d0%b3%d0%be%d1%81%d0%bb%d1%83%d0%b6%d1%96%d0%bd%d0%bd%d1%8f-%d0%b2-%d0%90%d0%ba%d0%b0%d0%b4%d0%b5%d0%bc%d1%96%d1%97-%d0%bd%d0%b0%d0%bf%d0%b5%d1%80%d0%b5%d0%b4%d0%be%d0%b4%d0%bd%d1%96/
X-WR-CALDESC:Богослужіння в Академії напередодні Великої середи
BEGIN:VEVENT
DTSTART:20180403T203000
DTEND:20180403T203000
SUMMARY:Богослужіння в Академії напередодні Великої середи
DESCRIPTION:Керуючий справами Української Православної Церкви митрополит Бориспільський і Броварський Антоній очолив вечірнє богослужіння в Академічному храмі на честь Різдва Божої Матері.
LOCATION:
END:VEVENT
END:VCALENDAR
