BEGIN:VCALENDAR
VERSION:2.0
PRODID:-//КДАіС
CALSCALE:GREGORIAN
METHOD:PUBLISH
X-WR-CALNAME:КДАіС
X-ORIGINAL-URL:https://kdais.kiev.ua/event/vitannya-20-04-2025-2/
X-WR-CALDESC:Вітаємо викладача КДАіС архімандрита Назарія (Омеляненка) з Днем народження!
BEGIN:VEVENT
DTSTART:20250420T233000
DTEND:20250420T233000
SUMMARY:Вітаємо викладача КДАіС архімандрита Назарія (Омеляненка) з Днем народження!
DESCRIPTION:Київські духовні школи сердечно вітають Вас зі світлим Христовим Воскресінням та Днем народження!
LOCATION:
END:VEVENT
END:VCALENDAR
