BEGIN:VCALENDAR
VERSION:2.0
PRODID:-//КДАіС
CALSCALE:GREGORIAN
METHOD:PUBLISH
X-WR-CALNAME:КДАіС
X-ORIGINAL-URL:https://kdais.kiev.ua/event/liturhiya-20-04-2025/
X-WR-CALDESC:Велика вечірня у день Пасхи Христової
BEGIN:VEVENT
DTSTART:20250420T233000
DTEND:20250420T233000
SUMMARY:Велика вечірня у день Пасхи Христової
DESCRIPTION:Відповідно до Уставу, під час богослужіння було прочитано Євангеліє про Воскресіння Христове: "Після Великого прокімна ієрей, стоячи в Царських вратах лицем до народу, читає Євангеліє"
LOCATION:
END:VEVENT
END:VCALENDAR
