BEGIN:VCALENDAR
VERSION:2.0
PRODID:-//КДАіС
CALSCALE:GREGORIAN
METHOD:PUBLISH
X-WR-CALNAME:КДАіС
X-ORIGINAL-URL:https://kdais.kiev.ua/event/liturhiya-21-04-2025/
X-WR-CALDESC:СВІТЛИЙ ПОНЕДІЛОК. Божественна літургія
BEGIN:VEVENT
DTSTART:20250421T233000
DTEND:20250421T233000
SUMMARY:СВІТЛИЙ ПОНЕДІЛОК. Божественна літургія
DESCRIPTION:Богослужіння очолив намісник Свято-Покровського чоловічого монастиря архієпископ Ворзельський Ісаакій у співслужінні духовенства монастиря, викладачів, студентів та гостей Київських духовних шкіл у священному сані
LOCATION:
END:VEVENT
END:VCALENDAR
