BEGIN:VCALENDAR
VERSION:2.0
PRODID:-//КДАіС
CALSCALE:GREGORIAN
METHOD:PUBLISH
X-WR-CALNAME:КДАіС
X-ORIGINAL-URL:https://kdais.kiev.ua/event/propovid-03-05-2025/
X-WR-CALDESC:Проповідь ректора Київської духовної академії і семінарії архієпископа Білогородського Сильвестра в Неділю третю після Пасхи, жінок-мироносиць
BEGIN:VEVENT
DTSTART:20250503T233000
DTEND:20250503T233000
SUMMARY:Проповідь ректора Київської духовної академії і семінарії архієпископа Білогородського Сильвестра в Неділю третю після Пасхи, жінок-мироносиць
DESCRIPTION:Саме через вірність і сміливість жінкам-мироносицям було першим довірено звістку про Воскресіння, яку вони сповістили Апостолам
LOCATION:
END:VEVENT
END:VCALENDAR
