BEGIN:VCALENDAR
VERSION:2.0
PRODID:-//КДАіС
CALSCALE:GREGORIAN
METHOD:PUBLISH
X-WR-CALNAME:КДАіС
X-ORIGINAL-URL:https://kdais.kiev.ua/event/bdinya-rector-10-05-2025/
X-WR-CALDESC:Архієпископ Сильвестр молився за Всенічним бдінням у Почаївській Лаврі
BEGIN:VEVENT
DTSTART:20250510T233000
DTEND:20250510T233000
SUMMARY:Архієпископ Сильвестр молився за Всенічним бдінням у Почаївській Лаврі
DESCRIPTION:Богослужіння було звершено у Спасо-Преображенському соборі Почаївської Лаври
LOCATION:
END:VEVENT
END:VCALENDAR
