BEGIN:VCALENDAR
VERSION:2.0
PRODID:-//КДАіС
CALSCALE:GREGORIAN
METHOD:PUBLISH
X-WR-CALNAME:КДАіС
X-ORIGINAL-URL:https://kdais.kiev.ua/event/12-05-2025-liturhiya/
X-WR-CALDESC:Літургія у день пам&#8217;яті преподобного Амфілохія Почаївського
BEGIN:VEVENT
DTSTART:20250512T233000
DTEND:20250512T233000
SUMMARY:Літургія у день пам&#8217;яті преподобного Амфілохія Почаївського
DESCRIPTION:Наприкінці богослужіння владика Климент привітав усіх присутніх з днем пам'яті преподобного Амфілохія та закликав Боже благословення
LOCATION:
END:VEVENT
END:VCALENDAR
