BEGIN:VCALENDAR
VERSION:2.0
PRODID:-//КДАіС
CALSCALE:GREGORIAN
METHOD:PUBLISH
X-WR-CALNAME:КДАіС
X-ORIGINAL-URL:https://kdais.kiev.ua/event/svyati_kda_23-05-2025/
X-WR-CALDESC:Собор святих КДА: Києво-Братська ікона Божої Матері (1650-ті рр.)
BEGIN:VEVENT
DTSTART:20250523T233000
DTEND:20250523T233000
SUMMARY:Собор святих КДА: Києво-Братська ікона Божої Матері (1650-ті рр.)
DESCRIPTION:Щосереди біля шанованого образу Пресвятої Богородиці звершується соборний спів акафіста, який підготований викладацьким колективом Академії
LOCATION:
END:VEVENT
END:VCALENDAR
