BEGIN:VCALENDAR
VERSION:2.0
PRODID:-//КДАіС
CALSCALE:GREGORIAN
METHOD:PUBLISH
X-WR-CALNAME:КДАіС
X-ORIGINAL-URL:https://kdais.kiev.ua/event/ekskursiya-26-05-25/
X-WR-CALDESC:Завершення навчального року в Недільній школі при Київській духовній академії та семінарії
BEGIN:VEVENT
DTSTART:20250526T233000
DTEND:20250526T233000
SUMMARY:Завершення навчального року в Недільній школі при Київській духовній академії та семінарії
DESCRIPTION:Наприкінці подорожі архімандрит Маркел привітав вихованців із закінченням навчального року та вручив їм дитячі молитвослови
LOCATION:
END:VEVENT
END:VCALENDAR
