BEGIN:VCALENDAR
VERSION:2.0
PRODID:-//КДАіС
CALSCALE:GREGORIAN
METHOD:PUBLISH
X-WR-CALNAME:КДАіС
X-ORIGINAL-URL:https://kdais.kiev.ua/event/27-05-2025-vechirnya/
X-WR-CALDESC:Напередодні віддання Пасхи в Академії відслужено вечірнє богослужіння Пасхальним чином
BEGIN:VEVENT
DTSTART:20250527T233000
DTEND:20250527T233000
SUMMARY:Напередодні віддання Пасхи в Академії відслужено вечірнє богослужіння Пасхальним чином
DESCRIPTION:Богослужіння очолив викладач архімандрит Маркел (Павук)
LOCATION:
END:VEVENT
END:VCALENDAR
