BEGIN:VCALENDAR
VERSION:2.0
PRODID:-//КДАіС
CALSCALE:GREGORIAN
METHOD:PUBLISH
X-WR-CALNAME:КДАіС
X-ORIGINAL-URL:https://kdais.kiev.ua/event/bdinnya-29-05-2025/
X-WR-CALDESC:Київські духовні школи молились за Всенічнім бдінням напередодні Дня народження ректора
BEGIN:VEVENT
DTSTART:20250529T233000
DTEND:20250529T233000
SUMMARY:Київські духовні школи молились за Всенічнім бдінням напередодні Дня народження ректора
DESCRIPTION:Богослужіння очолив ректор Київської духовної академії і семінарії архієпископ Білогородський Сильвестр
LOCATION:
END:VEVENT
END:VCALENDAR
