BEGIN:VCALENDAR
VERSION:2.0
PRODID:-//КДАіС
CALSCALE:GREGORIAN
METHOD:PUBLISH
X-WR-CALNAME:КДАіС
X-ORIGINAL-URL:https://kdais.kiev.ua/event/vitannya-rectora-29-05-2025/
X-WR-CALDESC:Професорсько-викладацька корпорація привітала архієпископа Білогородського Сильвестра з Днем народження
BEGIN:VEVENT
DTSTART:20250529T233000
DTEND:20250529T233000
SUMMARY:Професорсько-викладацька корпорація привітала архієпископа Білогородського Сильвестра з Днем народження
DESCRIPTION:В дар від Київської духовної академії і семінарії на молитовну згадку Його Високопреосвященству була подарована ікона святих КДА
LOCATION:
END:VEVENT
END:VCALENDAR
