BEGIN:VCALENDAR
VERSION:2.0
PRODID:-//КДАіС
CALSCALE:GREGORIAN
METHOD:PUBLISH
X-WR-CALNAME:КДАіС
X-ORIGINAL-URL:https://kdais.kiev.ua/event/vitalne_slovo-30-05-25/
X-WR-CALDESC:Вітання Предстоятеля архієпископу Білогородському Сильвестру, ректору Київської духовної академії і семінарії з 45-річчям з дня народження
BEGIN:VEVENT
DTSTART:20250530T233000
DTEND:20250530T233000
SUMMARY:Вітання Предстоятеля архієпископу Білогородському Сильвестру, ректору Київської духовної академії і семінарії з 45-річчям з дня народження
DESCRIPTION:У цей знаменний день молитовно бажаю Вашій Святині, щоб Всемилостивий Господь зберігав Вас в душевній і тілесній кріпості на многая і благая літа
LOCATION:
END:VEVENT
END:VCALENDAR
