BEGIN:VCALENDAR
VERSION:2.0
PRODID:-//КДАіС
CALSCALE:GREGORIAN
METHOD:PUBLISH
X-WR-CALNAME:КДАіС
X-ORIGINAL-URL:https://kdais.kiev.ua/event/liturhiya-rector-30-5-25/
X-WR-CALDESC:Предстоятель УПЦ очолив Божественну літургію з нагоди 45-річчя ректора КДАіС
BEGIN:VEVENT
DTSTART:20250530T233000
DTEND:20250530T233000
SUMMARY:Предстоятель УПЦ очолив Божественну літургію з нагоди 45-річчя ректора КДАіС
DESCRIPTION:На завершення Літургії Блаженніший владика привітав Високопреосвященнішого іменинника з 45-річчям від Дня народження та подарував йому просфору
LOCATION:
END:VEVENT
END:VCALENDAR
