BEGIN:VCALENDAR
VERSION:2.0
PRODID:-//КДАіС
CALSCALE:GREGORIAN
METHOD:PUBLISH
X-WR-CALNAME:КДАіС
X-ORIGINAL-URL:https://kdais.kiev.ua/event/ekzamen-30-05-25/
X-WR-CALDESC:В Київських духовних школах закінчилась літня екзаменаційна сесія
BEGIN:VEVENT
DTSTART:20250530T233000
DTEND:20250530T233000
SUMMARY:В Київських духовних школах закінчилась літня екзаменаційна сесія
DESCRIPTION:Студенти та вихованці продемонстрували знання, що стосуються богословських питань та духовного служіння
LOCATION:
END:VEVENT
END:VCALENDAR
