BEGIN:VCALENDAR
VERSION:2.0
PRODID:-//КДАіС
CALSCALE:GREGORIAN
METHOD:PUBLISH
X-WR-CALNAME:КДАіС
X-ORIGINAL-URL:https://kdais.kiev.ua/event/%d0%a1%d0%bb%d1%83%d0%b6%d1%96%d0%bd%d0%bd%d1%8f-%d1%80%d0%b5%d0%ba%d1%82%d0%be%d1%80%d0%b0-%d1%83-%d0%92%d0%b5%d0%bb%d0%b8%d0%ba%d0%b8%d0%b9-%d0%a7%d0%b5%d1%82%d0%b2%d0%b5%d1%80/
X-WR-CALDESC:Служіння ректора у Великий Четвер
BEGIN:VEVENT
DTSTART:20180405T203000
DTEND:20180405T203000
SUMMARY:Служіння ректора у Великий Четвер
DESCRIPTION:Ректор Академії очолив богослужіння в столичному храмі на честь св. ап. Іоанна Богослова (на Осокорках).
LOCATION:
END:VEVENT
END:VCALENDAR
