BEGIN:VCALENDAR
VERSION:2.0
PRODID:-//КДАіС
CALSCALE:GREGORIAN
METHOD:PUBLISH
X-WR-CALNAME:КДАіС
X-ORIGINAL-URL:https://kdais.kiev.ua/event/05-06-25-vitannya/
X-WR-CALDESC:Вітаємо професора митрополита Хмельницького і Старокостянтинівського Віктора з Днем Народження та річницею архієрейської хіротонії!
BEGIN:VEVENT
DTSTART:20250605T233000
DTEND:20250605T233000
SUMMARY:Вітаємо професора митрополита Хмельницького і Старокостянтинівського Віктора з Днем Народження та річницею архієрейської хіротонії!
DESCRIPTION:Цього благословенного дня Ви стали причасником великого дару життя, посланого від Отця світів роду людському
LOCATION:
END:VEVENT
END:VCALENDAR
