BEGIN:VCALENDAR
VERSION:2.0
PRODID:-//КДАіС
CALSCALE:GREGORIAN
METHOD:PUBLISH
X-WR-CALNAME:КДАіС
X-ORIGINAL-URL:https://kdais.kiev.ua/event/bogosluzhinnya-06-06-2025/
X-WR-CALDESC:Богослужіння в КДА напередодні Троїцької батьківської суботи
BEGIN:VEVENT
DTSTART:20250606T233000
DTEND:20250606T233000
SUMMARY:Богослужіння в КДА напередодні Троїцької батьківської суботи
DESCRIPTION:Окремі заупокійні прохання були виголошені за загиблими унаслідок масованого ракетного удару по Україні, що стався сьогодні вночі
LOCATION:
END:VEVENT
END:VCALENDAR
