BEGIN:VCALENDAR
VERSION:2.0
PRODID:-//КДАіС
CALSCALE:GREGORIAN
METHOD:PUBLISH
X-WR-CALNAME:КДАіС
X-ORIGINAL-URL:https://kdais.kiev.ua/event/liturhiya-08-06-2025/
X-WR-CALDESC:В Київських духовних школах молитовно відзначили День Святої Трійці, П’ятидесятницю
BEGIN:VEVENT
DTSTART:20250608T233000
DTEND:20250608T233000
SUMMARY:В Київських духовних школах молитовно відзначили День Святої Трійці, П’ятидесятницю
DESCRIPTION:Після Божественної літургії була відслужена Велика вечірня, за якою були прочитані особливі колінопреклонні молитви святителя Василія Великого
LOCATION:
END:VEVENT
END:VCALENDAR
