BEGIN:VCALENDAR
VERSION:2.0
PRODID:-//КДАіС
CALSCALE:GREGORIAN
METHOD:PUBLISH
X-WR-CALNAME:КДАіС
X-ORIGINAL-URL:https://kdais.kiev.ua/event/08-06-2025-bogosluzhinnya/
X-WR-CALDESC:Святкова утреня напередодні Дня Святого Духа та випуску Київських духовних шкіл
BEGIN:VEVENT
DTSTART:20250608T233000
DTEND:20250608T233000
SUMMARY:Святкова утреня напередодні Дня Святого Духа та випуску Київських духовних шкіл
DESCRIPTION:Богослужіння звершили проректор з навчально-методичної роботи єпископ Батуринський Пантелеімон та завідувач аспірантури Київської духовної академії єпископ Баришівський Філарет у співслужінні викладачів, студентів і вихованців випускних курсів та класів КДАіС та гостей у священному сані
LOCATION:
END:VEVENT
END:VCALENDAR
