BEGIN:VCALENDAR
VERSION:2.0
PRODID:-//КДАіС
CALSCALE:GREGORIAN
METHOD:PUBLISH
X-WR-CALNAME:КДАіС
X-ORIGINAL-URL:https://kdais.kiev.ua/event/svyati_kda_13-06-2025/
X-WR-CALDESC:Собор святих КДА: святитель Філофей (Ліщинський), митрополит Сибірський і Тобольський
BEGIN:VEVENT
DTSTART:20250613T233000
DTEND:20250613T233000
SUMMARY:Собор святих КДА: святитель Філофей (Ліщинський), митрополит Сибірський і Тобольський
DESCRIPTION:За час архіпастирського служіння митрополита Філофея у Сибіру було збудовано 288 церков та 37 монастирів, засновано багато парафій, чим була закладена основа для поширення християнства серед язичників. У 1712–1727 pp. під керівництвом святителя було навернуто та хрещено до 40 тисяч людей з різних сибірських народів
LOCATION:
END:VEVENT
END:VCALENDAR
