BEGIN:VCALENDAR
VERSION:2.0
PRODID:-//КДАіС
CALSCALE:GREGORIAN
METHOD:PUBLISH
X-WR-CALNAME:КДАіС
X-ORIGINAL-URL:https://kdais.kiev.ua/event/17-06-2025-litiya/
X-WR-CALDESC:Заупокійна літія за загиблими внаслідок масованої атаки по Україні
BEGIN:VEVENT
DTSTART:20250617T233000
DTEND:20250617T233000
SUMMARY:Заупокійна літія за загиблими внаслідок масованої атаки по Україні
DESCRIPTION:В ніч на 17 червня 2025 року російські війська здійснили комбінований удар по Україні ракетами різних типів повітряного, наземного та морського базування, а також ударними БпЛА. Внаслідок атаки на Київ станом на зараз 14 загиблих та 99 поранених. В Одесі відомо про щонайменше п'ятьох поранених, серед яких є дитина
LOCATION:
END:VEVENT
END:VCALENDAR
