BEGIN:VCALENDAR
VERSION:2.0
PRODID:-//КДАіС
CALSCALE:GREGORIAN
METHOD:PUBLISH
X-WR-CALNAME:КДАіС
X-ORIGINAL-URL:https://kdais.kiev.ua/event/svyati_kda-23-06-25/
X-WR-CALDESC:Собор святих КДА: святитель Іоанн, митрополит Тобольський
BEGIN:VEVENT
DTSTART:20250623T233000
DTEND:20250623T233000
SUMMARY:Собор святих КДА: святитель Іоанн, митрополит Тобольський
DESCRIPTION:У 1697 р. висвячений на єпископа і зведений в сан архієпископа Чернігівського та Новгород-Сіверського. У ставленій грамоті йому надавалося особливе право відправляти богослужіння в саккосі. Пізніше архієпископ Іоанн отримав призначення на Сибірську кафедру, де зусиллями ієрарха в християнство був звернений один із місцевих племінних князів та близько 300 його одноплемінників
LOCATION:
END:VEVENT
END:VCALENDAR
