BEGIN:VCALENDAR
VERSION:2.0
PRODID:-//КДАіС
CALSCALE:GREGORIAN
METHOD:PUBLISH
X-WR-CALNAME:КДАіС
X-ORIGINAL-URL:https://kdais.kiev.ua/event/litiya-23-06-2025/
X-WR-CALDESC:Заупокійна літія за загиблими внаслідок масованої атаки по Україні
BEGIN:VEVENT
DTSTART:20250623T233000
DTEND:20250623T233000
SUMMARY:Заупокійна літія за загиблими внаслідок масованої атаки по Україні
DESCRIPTION:В ніч на 23 червня 2025 року російські війська здійснили удар по Україні ракетами та ударними БпЛА. Внаслідок атаки на Київ наразі 6 загиблих та 31 постраждалий
LOCATION:
END:VEVENT
END:VCALENDAR
