BEGIN:VCALENDAR
VERSION:2.0
PRODID:-//КДАіС
CALSCALE:GREGORIAN
METHOD:PUBLISH
X-WR-CALNAME:КДАіС
X-ORIGINAL-URL:https://kdais.kiev.ua/event/vitannya-25-06-2025/
X-WR-CALDESC:Вітаємо доцента протоієрея Андрія Ухтомського з Днем народження!
BEGIN:VEVENT
DTSTART:20250625T233000
DTEND:20250625T233000
SUMMARY:Вітаємо доцента протоієрея Андрія Ухтомського з Днем народження!
DESCRIPTION:Бажаємо, щоб милість Божа освітлювала Ваш шлях, а благословення Отця Небесного супроводжували Вас у Вашій викладацькій діяльності та у всіх добрих і благих починаннях
LOCATION:
END:VEVENT
END:VCALENDAR
