BEGIN:VCALENDAR
VERSION:2.0
PRODID:-//КДАіС
CALSCALE:GREGORIAN
METHOD:PUBLISH
X-WR-CALNAME:КДАіС
X-ORIGINAL-URL:https://kdais.kiev.ua/event/vitannya-25-05-25-2/
X-WR-CALDESC:Київські духовні школи сердечно вітають Предстоятеля Української Православної Церкви з Днем Ангела!
BEGIN:VEVENT
DTSTART:20250625T233000
DTEND:20250625T233000
SUMMARY:Київські духовні школи сердечно вітають Предстоятеля Української Православної Церкви з Днем Ангела!
DESCRIPTION:Нехай Ваше Предстоятельство й надалі буде джерелом духовної підтримки, єдності та світлої надії для нашого народу в цей непростий час
LOCATION:
END:VEVENT
END:VCALENDAR
