BEGIN:VCALENDAR
VERSION:2.0
PRODID:-//КДАіС
CALSCALE:GREGORIAN
METHOD:PUBLISH
X-WR-CALNAME:КДАіС
X-ORIGINAL-URL:https://kdais.kiev.ua/event/liturhiya-rector-25-06-25/
X-WR-CALDESC:Київська духовна академія і семінарія молилась за святковим богослужінням у день тезоіменитства Предстоятеля УПЦ
BEGIN:VEVENT
DTSTART:20250625T233000
DTEND:20250625T233000
SUMMARY:Київська духовна академія і семінарія молилась за святковим богослужінням у день тезоіменитства Предстоятеля УПЦ
DESCRIPTION:Після відпусту Предстоятелю виголосили многоліття. Вітання від Священного Синоду УПЦ виголосив митрополит Тернопільський і Кременецький Сергій
LOCATION:
END:VEVENT
END:VCALENDAR
