BEGIN:VCALENDAR
VERSION:2.0
PRODID:-//КДАіС
CALSCALE:GREGORIAN
METHOD:PUBLISH
X-WR-CALNAME:КДАіС
X-ORIGINAL-URL:https://kdais.kiev.ua/event/svyati_kda-10-07-25/
X-WR-CALDESC:Собор святих КДА: священномученик Кіріон, патріарх Грузинський
BEGIN:VEVENT
DTSTART:20250710T233000
DTEND:20250710T233000
SUMMARY:Собор святих КДА: священномученик Кіріон, патріарх Грузинський
DESCRIPTION:Відкрито виступав за відновлення автокефалії Грузинської Церкви, відновлення функції грузинської мови як богослужбової. Активна діяльність владики Кіріона привернула увагу урядових служб, за ним було встановлено таємний нагляд поліції
LOCATION:
END:VEVENT
END:VCALENDAR
