BEGIN:VCALENDAR
VERSION:2.0
PRODID:-//КДАіС
CALSCALE:GREGORIAN
METHOD:PUBLISH
X-WR-CALNAME:КДАіС
X-ORIGINAL-URL:https://kdais.kiev.ua/event/propovid-28-06-2025-ua/
X-WR-CALDESC:Проповідь архієпископа Білогородського Сильвестра у Неділю третю після П’ятидесятниці
BEGIN:VEVENT
DTSTART:20250628T233000
DTEND:20250628T233000
SUMMARY:Проповідь архієпископа Білогородського Сильвестра у Неділю третю після П’ятидесятниці
DESCRIPTION:Невже в нашому житті немає і не може бути місце для турботи про щось? Звичайно є! Звичайно, повинна бути! Слід працювати, добуваючи собі хліб насущний, але піклування слід залишити для душі
LOCATION:
END:VEVENT
END:VCALENDAR
