BEGIN:VCALENDAR
VERSION:2.0
PRODID:-//КДАіС
CALSCALE:GREGORIAN
METHOD:PUBLISH
X-WR-CALNAME:КДАіС
X-ORIGINAL-URL:https://kdais.kiev.ua/event/propovid-12-07-2025-ua/
X-WR-CALDESC:Проповідь архієпископа Білогородського Сильвестра у Неділю п&#8217;яту після П&#8217;ятидесятниці
BEGIN:VEVENT
DTSTART:20250712T233000
DTEND:20250712T233000
SUMMARY:Проповідь архієпископа Білогородського Сильвестра у Неділю п&#8217;яту після П&#8217;ятидесятниці
DESCRIPTION:У Новому Завіті неодноразово згадуються біснуваті, які отримали зцілення від Господа Іісуса Христа. Це дуже важливе явище, адже в старозавітній традиції вважалося, що зцілити біснуватого практично неможливо і Старий Завіт не описує жодного випадку зцілення біснуватих
LOCATION:
END:VEVENT
END:VCALENDAR
